BEGIN:VCALENDAR
VERSION:2.0
PRODID:-//162.241.217.57//NONSGML kigkonsult.se iCalcreator 2.26.9//
CALSCALE:GREGORIAN
METHOD:PUBLISH
X-FROM-URL:https://drjessicalipham.com
X-WR-TIMEZONE:America/New_York
BEGIN:VTIMEZONE
TZID:America/New_York
X-LIC-LOCATION:America/New_York
BEGIN:STANDARD
DTSTART:20251102T020000
TZOFFSETFROM:-0400
TZOFFSETTO:-0500
RDATE:20261101T020000
TZNAME:EST
END:STANDARD
BEGIN:DAYLIGHT
DTSTART:20260308T020000
TZOFFSETFROM:-0500
TZOFFSETTO:-0400
RDATE:20270314T020000
TZNAME:EDT
END:DAYLIGHT
END:VTIMEZONE
BEGIN:VEVENT
UID:ai1ec-405@drjessicalipham.com
DTSTAMP:20260423T201448Z
CATEGORIES;LANGUAGE=en-US:Qi Gong
CONTACT:
DESCRIPTION:<p>First class is free.  Drop-in fee after first class is $12/c
 lass.  Purchase 10 classes for $100.</p>
DTSTART;TZID=America/New_York:20230427T100000
DTEND;TZID=America/New_York:20230427T110000
EXDATE;TZID=America/New_York:20160303T100000
EXDATE;TZID=America/New_York:20160616T100000
EXDATE;TZID=America/New_York:20160623T100000
EXDATE;TZID=America/New_York:20160630T100000
EXDATE;TZID=America/New_York:20160707T100000
EXDATE;TZID=America/New_York:20160714T100000
EXDATE;TZID=America/New_York:20170629T100000
EXDATE;TZID=America/New_York:20170706T100000
EXDATE;TZID=America/New_York:20170713T100000
EXDATE;TZID=America/New_York:20170720T100000
EXDATE;TZID=America/New_York:20170727T100000
GEO:+27.316816;-82.514231
LOCATION:Sarasota Healing Arts @ 1810 S Tuttle Ave\, Sarasota\, FL 34239\, 
 USA
RRULE:FREQ=WEEKLY;BYDAY=TH;WKST=SU
SEQUENCE:0
SUMMARY:Qi Gong with Dr. J
URL:https://drjessicalipham.com/event/qi-gong-with-dr-j/
X-COST-TYPE:free
END:VEVENT
BEGIN:VEVENT
UID:ai1ec-424@drjessicalipham.com
DTSTAMP:20260423T201448Z
CATEGORIES;LANGUAGE=en-US:Qi Gong
CONTACT:
DESCRIPTION:<p>Qi Gong held in Arlington Park by the fountain – WEATHER PER
 MITTING.</p>\n<p>Please call the office to sign up for notifications of lo
 cation via email (941) 487-7311</p>\n<p>Your first class is free\, drop in
  fee $12\, package pricing available.</p>
DTSTART;TZID=America/New_York:20230430T110000
DTEND;TZID=America/New_York:20230430T120000
EXDATE;TZID=America/New_York:20170625T110000
EXDATE;TZID=America/New_York:20170702T110000
EXDATE;TZID=America/New_York:20170709T110000
EXDATE;TZID=America/New_York:20170716T110000
EXDATE;TZID=America/New_York:20170723T110000
EXDATE;TZID=America/New_York:20170730T110000
EXDATE;TZID=America/New_York:20210207T110000
RRULE:FREQ=WEEKLY;BYDAY=SU;WKST=SU
SEQUENCE:0
SUMMARY:Qi Gong in Arlington Park
URL:https://drjessicalipham.com/event/qi-gong-arlington-park/
X-COST-TYPE:free
X-TAGS;LANGUAGE=en-US:Qi Gong
END:VEVENT
END:VCALENDAR
